BEGIN:VCALENDAR
VERSION:2.0
PRODID:-//Funtastic Unity Photography - ECPv6.15.13//NONSGML v1.0//EN
CALSCALE:GREGORIAN
METHOD:PUBLISH
X-ORIGINAL-URL:https://funtasticunity.com
X-WR-CALDESC:Events for Funtastic Unity Photography
REFRESH-INTERVAL;VALUE=DURATION:PT1H
X-Robots-Tag:noindex
X-PUBLISHED-TTL:PT1H
BEGIN:VTIMEZONE
TZID:America/Vancouver
BEGIN:DAYLIGHT
TZOFFSETFROM:-0800
TZOFFSETTO:-0700
TZNAME:PDT
DTSTART:20240310T100000
END:DAYLIGHT
BEGIN:STANDARD
TZOFFSETFROM:-0700
TZOFFSETTO:-0800
TZNAME:PST
DTSTART:20241103T090000
END:STANDARD
BEGIN:DAYLIGHT
TZOFFSETFROM:-0800
TZOFFSETTO:-0700
TZNAME:PDT
DTSTART:20250309T100000
END:DAYLIGHT
BEGIN:STANDARD
TZOFFSETFROM:-0700
TZOFFSETTO:-0800
TZNAME:PST
DTSTART:20251102T090000
END:STANDARD
BEGIN:DAYLIGHT
TZOFFSETFROM:-0800
TZOFFSETTO:-0700
TZNAME:PDT
DTSTART:20260308T100000
END:DAYLIGHT
BEGIN:STANDARD
TZOFFSETFROM:-0700
TZOFFSETTO:-0800
TZNAME:PST
DTSTART:20261101T090000
END:STANDARD
END:VTIMEZONE
BEGIN:VEVENT
DTSTART;TZID=America/Vancouver:20250706T110000
DTEND;TZID=America/Vancouver:20250706T110000
DTSTAMP:20260420T055801
CREATED:20250613T151449Z
LAST-MODIFIED:20250620T155522Z
UID:4582-1751799600-1751799600@funtasticunity.com
SUMMARY:Women’s Sunday Brunch Circle
DESCRIPTION:Women’s Monthly Brunch\nJoin us on the first Sunday of the month for a relaxed and inspiring brunch designed exclusively for women. \n🕙 Time: Sunday mornings 11AM \n🍽 What’s included: Good food\, great company\, and meaningful conversations \n📍 Location: Address will be shared every Friday\, two days before the event \n🗣 Topics: Discussion themes will be collaboratively chosen with attendees during each session\, so every brunch is fresh\, relevant\, and led by your voices. \nWhether you come to connect\, reflect\, laugh\, or simply enjoy a delicious meal — this space is yours. \n\nDownload Event PDF
URL:https://funtasticunity.com/event/womens-sunday-brunch-circle/
ATTACH;FMTTYPE=image/jpeg:https://funtasticunity.com/wp-content/uploads/2025/06/Event-2.jpeg
END:VEVENT
BEGIN:VEVENT
DTSTART;TZID=America/Vancouver:20250619T110000
DTEND;TZID=America/Vancouver:20250620T123000
DTSTAMP:20260420T055801
CREATED:20250613T151036Z
LAST-MODIFIED:20250620T160723Z
UID:4578-1750330800-1750422600@funtasticunity.com
SUMMARY:Capturing Childhood with Heart
DESCRIPTION:📅 Day 1 – Photography Techniques for Parents\nTime: 1.5 hours \nWho: Parents only (no kids) \nWhat to Bring: Smartphone or DSLR camera \nLearn simple\, effective techniques to beautifully capture moments with your children. This session is designed just for parents to build confidence with a camera\, no technical experience needed! \nWhat We’ll Cover:\n\nBasics of lighting\, composition\, and angles\nHow to use your smartphone or DSLR for the best results\nTips for natural\, candid photos that tell a story\nHands-on practice session and Q&A\n\n\n📅 Day 2 – Parent & Child Photography Session\nTime: 1.5 hours \nWho: Parents and children together \nWhat to Bring: Smartphone or DSLR camera \nPut your new skills to work in a fun\, relaxed photo session with your child! Move through themed photo stations designed to capture joyful\, authentic moments. \nWhat to Expect:\n\nInteractive stations: candid play\, portraits\, shared activities\, and more\nGuided opportunities to photograph your child with confidence\nLight direction and feedback from the instructor\n\n🎁 Bonus!\nAt the end of Day 2\, each family will receive 2 professionally taken photos as a keepsake from the workshop. \nWe look forward to helping you create beautiful memories through the lens! 📷✨ \n\nDownload Event PDF
URL:https://funtasticunity.com/event/capturing-childhood-with-heart/
ATTACH;FMTTYPE=image/jpeg:https://funtasticunity.com/wp-content/uploads/2025/06/Event-1.jpeg
END:VEVENT
BEGIN:VEVENT
DTSTART;TZID=America/Vancouver:20250612T080000
DTEND;TZID=America/Vancouver:20250612T170000
DTSTAMP:20260420T055801
CREATED:20250612T220142Z
LAST-MODIFIED:20250612T220142Z
UID:4572-1749715200-1749747600@funtasticunity.com
SUMMARY:test 1
DESCRIPTION:
URL:https://funtasticunity.com/event/test-1/
END:VEVENT
END:VCALENDAR